BEGIN:VCALENDAR
VERSION:2.0
PRODID:icalendar-ruby
CALSCALE:GREGORIAN
BEGIN:VEVENT
DTSTAMP:20210120T050734Z
UID:2e8dbed4-9977-415b-b3d1-5df056f66c9a
DTSTART;VALUE=DATE:20191120
DESCRIPTION:Property ID# 463864\, Locatoin: 778 Manukau Road\, Royal Oak\, 
 1023\, Time: 6:00PM
SUMMARY:Auction for 
END:VEVENT
END:VCALENDAR
