BEGIN:VCALENDAR
VERSION:2.0
PRODID:icalendar-ruby
CALSCALE:GREGORIAN
BEGIN:VEVENT
DTSTAMP:20210120T050742Z
UID:969b5742-4592-4480-8f91-412a6c73a8a6
DTSTART;VALUE=DATE:20191211
DESCRIPTION:Property ID# 466932\, Locatoin: 778 Manukau Road\, Royal Oak (u
 nless sold prior)\, Time: 4:00PM
SUMMARY:Auction for 
END:VEVENT
END:VCALENDAR
