BEGIN:VCALENDAR
VERSION:2.0
PRODID:icalendar-ruby
CALSCALE:GREGORIAN
BEGIN:VEVENT
DTSTAMP:20210120T050741Z
UID:6e0a57e5-7e1f-4f28-8b40-f83764eba18d
DTSTART;VALUE=DATE:20200304
DESCRIPTION:Property ID# 472716\, Locatoin: 778 Manukau Road\, Royal Oak (U
 nless Sold Prior)\, Time: 6:00PM
SUMMARY:Auction for 
END:VEVENT
END:VCALENDAR
