BEGIN:VCALENDAR
VERSION:2.0
PRODID:icalendar-ruby
CALSCALE:GREGORIAN
BEGIN:VEVENT
DTSTAMP:20210120T050744Z
UID:9ea9ee90-85cd-439d-b6ba-56ff36b0dc53
DTSTART;VALUE=DATE:20200331
DESCRIPTION:Property ID# 474359\, Locatoin: 778 Manukau Road\, Royal Oak\, 
 1023\, Time: 5:00PM
SUMMARY:Auction for 
END:VEVENT
END:VCALENDAR
