BEGIN:VCALENDAR
VERSION:2.0
PRODID:icalendar-ruby
CALSCALE:GREGORIAN
BEGIN:VEVENT
DTSTAMP:20210120T050739Z
UID:87761291-8314-45e5-9747-410446f22ba3
DTSTART;VALUE=DATE:20200603
DESCRIPTION:Property ID# 477464\, Locatoin: 778 Manukau Road\, Royal Oak (u
 nless sold prior)\, Time: 12:00PM
SUMMARY:Auction for 
END:VEVENT
END:VCALENDAR
