BEGIN:VCALENDAR
VERSION:2.0
PRODID:icalendar-ruby
CALSCALE:GREGORIAN
BEGIN:VEVENT
DTSTAMP:20210120T050738Z
UID:c9a5db57-4dbe-4214-85d7-27f761501e1b
DTSTART;VALUE=DATE:20200715
DESCRIPTION:Property ID# 483697\, Locatoin: 778 Manukau Road\, Royal Oak (u
 nless sold prior)\, Time: 12:00AM
SUMMARY:Auction for 
END:VEVENT
END:VCALENDAR
